BEGIN:VCALENDAR
VERSION:2.0
PRODID:-//DAO DE TCM - ECPv6.15.20//NONSGML v1.0//EN
CALSCALE:GREGORIAN
METHOD:PUBLISH
X-WR-CALNAME:DAO DE TCM
X-ORIGINAL-URL:https://daodetcm.com
X-WR-CALDESC:Wydarzenia dla DAO DE TCM
REFRESH-INTERVAL;VALUE=DURATION:PT1H
X-Robots-Tag:noindex
X-PUBLISHED-TTL:PT1H
BEGIN:VTIMEZONE
TZID:Europe/Warsaw
BEGIN:DAYLIGHT
TZOFFSETFROM:+0100
TZOFFSETTO:+0200
TZNAME:CEST
DTSTART:20220327T010000
END:DAYLIGHT
BEGIN:STANDARD
TZOFFSETFROM:+0200
TZOFFSETTO:+0100
TZNAME:CET
DTSTART:20221030T010000
END:STANDARD
BEGIN:DAYLIGHT
TZOFFSETFROM:+0100
TZOFFSETTO:+0200
TZNAME:CEST
DTSTART:20230326T010000
END:DAYLIGHT
BEGIN:STANDARD
TZOFFSETFROM:+0200
TZOFFSETTO:+0100
TZNAME:CET
DTSTART:20231029T010000
END:STANDARD
BEGIN:DAYLIGHT
TZOFFSETFROM:+0100
TZOFFSETTO:+0200
TZNAME:CEST
DTSTART:20240331T010000
END:DAYLIGHT
BEGIN:STANDARD
TZOFFSETFROM:+0200
TZOFFSETTO:+0100
TZNAME:CET
DTSTART:20241027T010000
END:STANDARD
END:VTIMEZONE
BEGIN:VEVENT
DTSTART;VALUE=DATE:20231029
DTEND;VALUE=DATE:20231030
DTSTAMP:20260419T165343
CREATED:20230416T013352Z
LAST-MODIFIED:20241119T110925Z
UID:6179-1698537600-1698623999@daodetcm.com
SUMMARY:Dermatologie - Maladies occidentales en MTC
DESCRIPTION:Médecine Traditionnelle Chinoise \nPerfectionnement\n\nEnseignant – Marta Kubisz\nMaîtrise en médecine – Diplômée en pédiatrie à l’Université de Médecine Chinoise de Nanjing (Chine) \n  \nMaladies occidentales en médecine chinoise\nDermatologie\nSÉMINAIRES EN LIGNE \nZoom\n29 octobre 2023\n15 : 00 – 20 : 00\n\nChaque session en ligne sera enregistrée et mise à disposition des participants pour faciliter la révision durant 30 jours.  \n\nPROGRAMME\nApprofondir et intégrer la théorie de la médecine chinoise à la pratique clinique\n\n\nL’étude d’un grand nombre des maladies occidentales avec l’explication de leur causes grâce au diagnostic en médecine chinoise.\n\nL’accent sera mis sur :\n\n\nAspect psychosomatique de la racine des maladies\nDiagnostic précis en MTC de chaque maladie étudiée\nIndication des syndromes et des fonctions Zang/Fu concernées\nÉlaborationa de la plus efficace stratégie thérapeutique à adopter selon les syndromes identifiés\nSynergie des différentes techniques de soins dans la thérapie (accupuncture\, massage Tui Na\, diététique et pharmacopée chinoise\, exercices de Qi Gong)\nÉtudes des cas pratiques\n\n  \nDermatologie – L’étude des maladies et l’analyse des cas pratiques : éruption cutanée\, acné\, eczéma\, urticaire\, furoncle\, zona\, herpès\, psoriasis\, vitiligo\, etc. \nLa liste des malades n’est pas exhaustive et il est possible d’en voir d’autres selon la demande des étudiants participant. \n\n\n\nWEBINAIRE – Tarif de la session 110€\nL’inscription à la formation s’effectue par voie électronique. \nLe paiement du prix de la formation s’effectue par virement bancaire sur le compte dont les coordonnées seront fournies en réponse à la demande d’inscription. \nSur demande\, des factures sans TVA pourront être émises par l’Organisateur. \n\nInformations supplémentaires : \nTéléphone: +33 (0)6 60 57 84 65 \nemail: inscription@sanbaoacademy.com
URL:https://daodetcm.com/seminar/maladies-en-mtc-2-2-2-2-2-2/
LOCATION:Séminaire en ligne\, France
ATTACH;FMTTYPE=image/png:https://daodetcm.com/wp-content/uploads/2023/02/35.png
END:VEVENT
END:VCALENDAR