BEGIN:VCALENDAR
VERSION:2.0
PRODID:-//DAO DE TCM - ECPv6.15.20//NONSGML v1.0//EN
CALSCALE:GREGORIAN
METHOD:PUBLISH
X-ORIGINAL-URL:https://daodetcm.com
X-WR-CALDESC:Wydarzenia dla DAO DE TCM
REFRESH-INTERVAL;VALUE=DURATION:PT1H
X-Robots-Tag:noindex
X-PUBLISHED-TTL:PT1H
BEGIN:VTIMEZONE
TZID:Europe/Warsaw
BEGIN:DAYLIGHT
TZOFFSETFROM:+0100
TZOFFSETTO:+0200
TZNAME:CEST
DTSTART:20220327T010000
END:DAYLIGHT
BEGIN:STANDARD
TZOFFSETFROM:+0200
TZOFFSETTO:+0100
TZNAME:CET
DTSTART:20221030T010000
END:STANDARD
BEGIN:DAYLIGHT
TZOFFSETFROM:+0100
TZOFFSETTO:+0200
TZNAME:CEST
DTSTART:20230326T010000
END:DAYLIGHT
BEGIN:STANDARD
TZOFFSETFROM:+0200
TZOFFSETTO:+0100
TZNAME:CET
DTSTART:20231029T010000
END:STANDARD
BEGIN:DAYLIGHT
TZOFFSETFROM:+0100
TZOFFSETTO:+0200
TZNAME:CEST
DTSTART:20240331T010000
END:DAYLIGHT
BEGIN:STANDARD
TZOFFSETFROM:+0200
TZOFFSETTO:+0100
TZNAME:CET
DTSTART:20241027T010000
END:STANDARD
END:VTIMEZONE
BEGIN:VEVENT
DTSTART;VALUE=DATE:20230106
DTEND;VALUE=DATE:20230109
DTSTAMP:20260422T040610
CREATED:20220902T160151Z
LAST-MODIFIED:20241119T113846Z
UID:4247-1672963200-1673222399@daodetcm.com
SUMMARY:Massage Tui Na - stage de perfectionnent
DESCRIPTION:TECHNIQUES APPROFONDIES \nMassage Tui Na – Moxa – Ventouses\nStage reservé aux personnes ayant déjà une formation de base en Massage Chinois\nEnseignant : Marta Kubisz\nMaîtrise en médecine (spécialité pédiatrie) – Diplômée de l’Université de Médecine Chinoise de Nanjing (Chine)\nWeek-end de 3 jours – 16h de cours \n6 – 8 janvier 2023\nProgramme\nL’objectif du stage est d’apporter l’approfondissement des connaissances sur l’utilisation thérapeutique des techniques du massage Tui Na\, des ventouses et du moxa.\nLe Contenu : L’enchaînement d’exerces de Qi Gong pour préparer la séance de massage. L’étude de la position du masseur et le travail sur le Senti. La théorie San Bao et l’analyse de la physiologie du corps énergétique. Le repérage corporel et le diagnostic palpatoire en MTC. La révision des techniques de Tui Na\, de ventouses et de moxa\, ainsi que les protocoles de soins et la topographie des zones à travailler selon les syndromes des maladies. \nLes Horaires :  Vendredi  14h – 19h\,  Samedi  9h – 13h et 15h – 19h\, Dimanche  9h – 12h \nLe lieu de stage : Lyon (France) \nLa documentation pédagogique en français sera fournie aux participants. \nTarif de la formation : 320€ \nLe prix ne comprend pas d’hébergement\, ni de transport\, ni de repas. \nSur demande\, des factures sans TVA pourront être émises par l’Organisateur. \nLe stage se déroule en petit comité pour permettre aux étudiants une participation active et une interaction avec l’enseignant plus aisée. Le nombre des places étant limité\, les inscriptions s’effectuent dans l’ordre d’arrivée des demandes. \nL’inscription à la formation s’effectue par voie électronique en adressant la demande d’inscription à l’adresse suivante :  inscription@sanbaoacademy.com \n  \nInformations supplémentaires :\n\nTéléphone : +33 (0)6 60 57 84 65 \nEmail : inscription@sanbaoacademy.com
URL:https://daodetcm.com/seminar/mtc-cours-de-perfectionnement/
LOCATION:France – Lyon\, France
CATEGORIES:MASSAGE CHINOIS
ATTACH;FMTTYPE=image/png:https://daodetcm.com/wp-content/uploads/2022/09/Foto-Harmonogram-2.png
END:VEVENT
END:VCALENDAR