BEGIN:VCALENDAR
VERSION:2.0
PRODID:-//DAO DE TCM - ECPv6.15.20//NONSGML v1.0//EN
CALSCALE:GREGORIAN
METHOD:PUBLISH
X-ORIGINAL-URL:https://daodetcm.com
X-WR-CALDESC:Wydarzenia dla DAO DE TCM
REFRESH-INTERVAL;VALUE=DURATION:PT1H
X-Robots-Tag:noindex
X-PUBLISHED-TTL:PT1H
BEGIN:VTIMEZONE
TZID:Europe/Warsaw
BEGIN:DAYLIGHT
TZOFFSETFROM:+0100
TZOFFSETTO:+0200
TZNAME:CEST
DTSTART:20220327T010000
END:DAYLIGHT
BEGIN:STANDARD
TZOFFSETFROM:+0200
TZOFFSETTO:+0100
TZNAME:CET
DTSTART:20221030T010000
END:STANDARD
BEGIN:DAYLIGHT
TZOFFSETFROM:+0100
TZOFFSETTO:+0200
TZNAME:CEST
DTSTART:20230326T010000
END:DAYLIGHT
BEGIN:STANDARD
TZOFFSETFROM:+0200
TZOFFSETTO:+0100
TZNAME:CET
DTSTART:20231029T010000
END:STANDARD
BEGIN:DAYLIGHT
TZOFFSETFROM:+0100
TZOFFSETTO:+0200
TZNAME:CEST
DTSTART:20240331T010000
END:DAYLIGHT
BEGIN:STANDARD
TZOFFSETFROM:+0200
TZOFFSETTO:+0100
TZNAME:CET
DTSTART:20241027T010000
END:STANDARD
END:VTIMEZONE
BEGIN:VEVENT
DTSTART;VALUE=DATE:20230312
DTEND;VALUE=DATE:20230313
DTSTAMP:20260422T003221
CREATED:20230214T181419Z
LAST-MODIFIED:20241119T112948Z
UID:5032-1678579200-1678665599@daodetcm.com
SUMMARY:Système nerveux - maladies occidentales en MTC
DESCRIPTION:Médecine Traditionnelle Chinoise\nPerfectionnement\nReservée aux personnes ayant déjà une formation de base en MTC\nEnseignant – Marta Kubisz\nMaîtrise en médecine – Diplômée en pédiatrie à l’Université de Médecine Chinoise de Nanjing (Chine) \nMaladies occidentales en médecine chinoise\nSystème nerveux\nSÉMINAIRES EN LIGNE \nZoom\n12 mars 2023   et   19 mars 2023\n15 : 00 – 20 : 00\n  \nChaque session en ligne sera enregistrée et mise à disposition des participants pour faciliter la révision durant 30 jours.  \n\nPROGRAMME \n  Approfondir et intégrer la théorie de la médecine chinoise à la pratique clinique\n\nL’étude d’un grand nombre des maladies occidentales avec l’explication de leur causes grâce au diagnostic en médecine chinoise.\n\nL’accent sera mis sur :\n\n\nAspect psychosomatique de la racine des maladies\nDiagnostic précis en MTC de chaque maladie étudiée\nIndication des syndromes et des fonctions Zang/Fu concernées\nÉlaborationa de la plus efficace stratégie thérapeutique à adopter selon les syndromes identifiés\nSynergie des différentes techniques de soins dans la thérapie (accupuncture\, massage Tui Na\, diététique et pharmacopée chinoise\, exercices de Qi Gong)\nÉtudes des cas pratiques\n\n  \nWEBINAIRE – le 12 mars 2023 – Tarif de la session 110€\nSystème nerveux (partie 1) – L’étude des maladies suivantes : dépression\, névrose\, maladies psychatriques\, syndrome bipolaire\, manie\, insomnie\, migraine\, maux de tête\, hyperthyroïdie\, hypothyroïdie\, hypertension\, étourdissements\, acouphènes\, perte auditive\, paralysie\, tétanie\, maladie de Parkinson\, sclérose en plaque\, etc. La liste des malades n’est pas exhaustive et il est possible d’en voir d’autres selon la demande des étudiants participant \nWEBINAIRE – le 19 mars 2023 – Tarif de la session 110€  \nSystème nerveux (partie 2) – La suite de l’étude et l’analyse des cas pratiques. \nTarif réduit du module entier  „Système nerveux” 190€   \n  \nL’inscription à la formation s’effectue par voie électronique en remplissant le formulaire d’enregistrement. Le paiement du prix de la formation s’effectue par virement bancaire sur le compte dont les coordonnées seront fournies en réponse à la demande d’inscription. \nSur demande\, des factures sans TVA pourront être émises par l’Organisateur. \n\nInformations supplémentaires : \nTéléphone: +33 (0)6 60 57 84 65 \nemail: inscription@sanbaoacademy.com
URL:https://daodetcm.com/seminar/maladies-en-mtc-2/
LOCATION:Séminaire en ligne\, France
ATTACH;FMTTYPE=image/png:https://daodetcm.com/wp-content/uploads/2023/02/34.png
END:VEVENT
END:VCALENDAR